Package: RNAmodR.RiboMethSeq Version: 1.22.0 Command: /home/biocbuild/R/R/bin/R CMD check --install=check:RNAmodR.RiboMethSeq.install-out.txt --library=/home/biocbuild/R/R/site-library --no-vignettes --timings RNAmodR.RiboMethSeq_1.22.0.tar.gz StartedAt: 2025-10-14 13:26:25 -0000 (Tue, 14 Oct 2025) EndedAt: 2025-10-14 13:36:27 -0000 (Tue, 14 Oct 2025) EllapsedTime: 602.6 seconds RetCode: 0 Status: OK CheckDir: RNAmodR.RiboMethSeq.Rcheck Warnings: 0