Package: RNAmodR.RiboMethSeq Version: 1.22.0 Command: /home/biocbuild/R/R/bin/R CMD build --keep-empty-dirs --no-resave-data RNAmodR.RiboMethSeq StartedAt: 2025-10-14 04:08:06 -0000 (Tue, 14 Oct 2025) EndedAt: 2025-10-14 04:11:09 -0000 (Tue, 14 Oct 2025) EllapsedTime: 183.1 seconds RetCode: 0 Status: OK PackageFile: RNAmodR.RiboMethSeq_1.22.0.tar.gz PackageFileSize: 677.6 KiB