Package: RNAmodR.RiboMethSeq Version: 1.22.0 Command: /Library/Frameworks/R.framework/Resources/bin/R CMD build --keep-empty-dirs --no-resave-data RNAmodR.RiboMethSeq StartedAt: 2025-10-14 08:02:47 -0400 (Tue, 14 Oct 2025) EndedAt: 2025-10-14 08:05:17 -0400 (Tue, 14 Oct 2025) EllapsedTime: 150.4 seconds RetCode: 0 Status: OK PackageFile: RNAmodR.RiboMethSeq_1.22.0.tar.gz PackageFileSize: 638 KiB