Package: RNAmodR.RiboMethSeq Version: 1.22.0 Command: rm -rf RNAmodR.RiboMethSeq.buildbin-libdir && mkdir RNAmodR.RiboMethSeq.buildbin-libdir && /Users/biocbuild/BBS/utils/build-universal.sh RNAmodR.RiboMethSeq_1.22.0.tar.gz /Library/Frameworks/R.framework/Resources/bin/R RNAmodR.RiboMethSeq.buildbin-libdir StartedAt: 2025-10-15 20:12:36 -0400 (Wed, 15 Oct 2025) EndedAt: 2025-10-15 20:13:53 -0400 (Wed, 15 Oct 2025) EllapsedTime: 76.9 seconds RetCode: 0 Status: OK PackageFile: RNAmodR.RiboMethSeq_1.22.0.tgz PackageFileSize: 719.6 KiB