Package: RNAmodR.ML Version: 1.22.0 Command: /Library/Frameworks/R.framework/Resources/bin/R CMD INSTALL RNAmodR.ML StartedAt: 2025-10-13 16:27:13 -0400 (Mon, 13 Oct 2025) EndedAt: 2025-10-13 16:29:16 -0400 (Mon, 13 Oct 2025) EllapsedTime: 123.4 seconds RetCode: 0 Status: OK