Package: RNAmodR.ML Version: 1.22.0 Command: /home/biocbuild/R/R/bin/R CMD INSTALL RNAmodR.ML StartedAt: 2025-10-13 21:05:11 -0000 (Mon, 13 Oct 2025) EndedAt: 2025-10-13 21:06:35 -0000 (Mon, 13 Oct 2025) EllapsedTime: 84.3 seconds RetCode: 0 Status: OK