Package: RNAmodR.ML Version: 1.22.0 Command: /home/biocbuild/R/R/bin/R CMD check --install=check:RNAmodR.ML.install-out.txt --library=/home/biocbuild/R/R/site-library --no-vignettes --timings RNAmodR.ML_1.22.0.tar.gz StartedAt: 2025-10-14 13:25:58 -0000 (Tue, 14 Oct 2025) EndedAt: 2025-10-14 13:37:02 -0000 (Tue, 14 Oct 2025) EllapsedTime: 664.7 seconds RetCode: 0 Status: OK CheckDir: RNAmodR.ML.Rcheck Warnings: 0