Package: RNAmodR.ML Version: 1.22.0 Command: /home/biocbuild/R/R/bin/R CMD build --keep-empty-dirs --no-resave-data RNAmodR.ML StartedAt: 2025-10-14 04:07:34 -0000 (Tue, 14 Oct 2025) EndedAt: 2025-10-14 04:12:34 -0000 (Tue, 14 Oct 2025) EllapsedTime: 300.2 seconds RetCode: 0 Status: OK PackageFile: RNAmodR.ML_1.22.0.tar.gz PackageFileSize: 1.662 MiB