Package: RNAmodR.ML Version: 1.22.0 Command: /Library/Frameworks/R.framework/Resources/bin/R CMD INSTALL RNAmodR.ML StartedAt: 2025-10-13 17:44:22 -0400 (Mon, 13 Oct 2025) EndedAt: 2025-10-13 17:45:33 -0400 (Mon, 13 Oct 2025) EllapsedTime: 71.1 seconds RetCode: 0 Status: OK