Package: RNAmodR.ML Version: 1.22.0 Command: /Library/Frameworks/R.framework/Resources/bin/R CMD build --keep-empty-dirs --no-resave-data RNAmodR.ML StartedAt: 2025-10-14 08:00:06 -0400 (Tue, 14 Oct 2025) EndedAt: 2025-10-14 08:04:12 -0400 (Tue, 14 Oct 2025) EllapsedTime: 246.5 seconds RetCode: 0 Status: OK PackageFile: RNAmodR.ML_1.22.0.tar.gz PackageFileSize: 1.577 MiB