Package: RNAmodR.AlkAnilineSeq Version: 1.22.0 Command: /home/biocbuild/bbs-3.21-bioc/R/bin/R CMD build --keep-empty-dirs --no-resave-data RNAmodR.AlkAnilineSeq StartedAt: 2025-10-15 19:32:14 -0400 (Wed, 15 Oct 2025) EndedAt: 2025-10-15 19:34:27 -0400 (Wed, 15 Oct 2025) EllapsedTime: 133.1 seconds RetCode: 0 Status: OK PackageFile: RNAmodR.AlkAnilineSeq_1.22.0.tar.gz PackageFileSize: 1.049 MiB