Package: RNAmodR.AlkAnilineSeq Version: 1.22.0 Command: /home/biocbuild/R/R/bin/R CMD INSTALL RNAmodR.AlkAnilineSeq StartedAt: 2025-10-13 21:05:02 -0000 (Mon, 13 Oct 2025) EndedAt: 2025-10-13 21:06:25 -0000 (Mon, 13 Oct 2025) EllapsedTime: 83.2 seconds RetCode: 0 Status: OK