Package: RNAmodR.AlkAnilineSeq Version: 1.22.0 Command: /home/biocbuild/R/R/bin/R CMD build --keep-empty-dirs --no-resave-data RNAmodR.AlkAnilineSeq StartedAt: 2025-10-14 04:07:29 -0000 (Tue, 14 Oct 2025) EndedAt: 2025-10-14 04:11:05 -0000 (Tue, 14 Oct 2025) EllapsedTime: 216.1 seconds RetCode: 0 Status: OK PackageFile: RNAmodR.AlkAnilineSeq_1.22.0.tar.gz PackageFileSize: 1.085 MiB