Package: RNAmodR.AlkAnilineSeq Version: 1.22.0 Command: /Library/Frameworks/R.framework/Resources/bin/R CMD INSTALL RNAmodR.AlkAnilineSeq StartedAt: 2025-10-13 17:42:03 -0400 (Mon, 13 Oct 2025) EndedAt: 2025-10-13 17:43:12 -0400 (Mon, 13 Oct 2025) EllapsedTime: 69.2 seconds RetCode: 0 Status: OK