Package: RNAmodR.AlkAnilineSeq Version: 1.22.0 Command: /Library/Frameworks/R.framework/Resources/bin/R CMD build --keep-empty-dirs --no-resave-data RNAmodR.AlkAnilineSeq StartedAt: 2025-10-14 07:59:46 -0400 (Tue, 14 Oct 2025) EndedAt: 2025-10-14 08:02:47 -0400 (Tue, 14 Oct 2025) EllapsedTime: 180.7 seconds RetCode: 0 Status: OK PackageFile: RNAmodR.AlkAnilineSeq_1.22.0.tar.gz PackageFileSize: 1.039 MiB