Package: RNAmodR.AlkAnilineSeq Version: 1.22.0 Command: rm -rf RNAmodR.AlkAnilineSeq.buildbin-libdir && mkdir RNAmodR.AlkAnilineSeq.buildbin-libdir && /Users/biocbuild/BBS/utils/build-universal.sh RNAmodR.AlkAnilineSeq_1.22.0.tar.gz /Library/Frameworks/R.framework/Resources/bin/R RNAmodR.AlkAnilineSeq.buildbin-libdir StartedAt: 2025-10-15 20:11:56 -0400 (Wed, 15 Oct 2025) EndedAt: 2025-10-15 20:13:13 -0400 (Wed, 15 Oct 2025) EllapsedTime: 77.0 seconds RetCode: 0 Status: OK PackageFile: RNAmodR.AlkAnilineSeq_1.22.0.tgz PackageFileSize: 1.109 MiB