Package: RNAAgeCalc Version: 1.20.0 Maintainer: Xu Ren MaintainerEmail: xuren2120 at gmail.com git_url: https://git.bioconductor.org/packages/RNAAgeCalc git_branch: RELEASE_3_21 git_last_commit: 83db03e git_last_commit_date: 2025-04-15 11:55:41 -0400 (Tue, 15 Apr 2025)