Package: RLassoCox Version: 1.16.0 Command: /home/biocbuild/R/R/bin/R CMD build --keep-empty-dirs --no-resave-data RLassoCox StartedAt: 2025-10-14 04:05:28 -0000 (Tue, 14 Oct 2025) EndedAt: 2025-10-14 04:08:06 -0000 (Tue, 14 Oct 2025) EllapsedTime: 158.1 seconds RetCode: 0 Status: OK PackageFile: RLassoCox_1.16.0.tar.gz PackageFileSize: 1.994 MiB