Package: RLMM Version: 1.70.0 Command: rm -rf RLMM.buildbin-libdir && mkdir RLMM.buildbin-libdir && /Users/biocbuild/BBS/utils/build-universal.sh RLMM_1.70.0.tar.gz /Library/Frameworks/R.framework/Resources/bin/R RLMM.buildbin-libdir StartedAt: 2025-04-21 22:49:19 -0400 (Mon, 21 Apr 2025) EndedAt: 2025-04-21 22:49:21 -0400 (Mon, 21 Apr 2025) EllapsedTime: 2.0 seconds RetCode: 0 Status: OK PackageFile: RLMM_1.70.0.tgz PackageFileSize: 372 KiB