Package: RGraph2js Version: 1.36.0 Command: /home/biocbuild/bbs-3.21-bioc/R/bin/R CMD build --keep-empty-dirs --no-resave-data RGraph2js StartedAt: 2025-10-15 19:27:49 -0400 (Wed, 15 Oct 2025) EndedAt: 2025-10-15 19:27:59 -0400 (Wed, 15 Oct 2025) EllapsedTime: 10.0 seconds RetCode: 0 Status: OK PackageFile: RGraph2js_1.36.0.tar.gz PackageFileSize: 2.344 MiB