Package: RGraph2js Version: 1.36.0 Command: /Library/Frameworks/R.framework/Resources/bin/R CMD build --keep-empty-dirs --no-resave-data RGraph2js StartedAt: 2025-10-13 22:00:08 -0400 (Mon, 13 Oct 2025) EndedAt: 2025-10-13 22:00:33 -0400 (Mon, 13 Oct 2025) EllapsedTime: 25.0 seconds RetCode: 0 Status: OK PackageFile: RGraph2js_1.36.0.tar.gz PackageFileSize: 2.343 MiB