Package: RGraph2js Version: 1.36.0 Command: /Library/Frameworks/R.framework/Resources/bin/R CMD INSTALL RGraph2js StartedAt: 2025-10-13 15:32:46 -0400 (Mon, 13 Oct 2025) EndedAt: 2025-10-13 15:32:50 -0400 (Mon, 13 Oct 2025) EllapsedTime: 3.6 seconds RetCode: 0 Status: OK