Package: RGSEA Version: 1.42.0 Command: /home/biocbuild/R/R/bin/R CMD INSTALL RGSEA StartedAt: 2025-10-13 20:23:23 -0000 (Mon, 13 Oct 2025) EndedAt: 2025-10-13 20:23:27 -0000 (Mon, 13 Oct 2025) EllapsedTime: 3.5 seconds RetCode: 0 Status: OK