Package: RGMQL Version: 1.28.0 Command: /home/biocbuild/R/R/bin/R CMD INSTALL RGMQL StartedAt: 2025-10-13 20:41:20 -0000 (Mon, 13 Oct 2025) EndedAt: 2025-10-13 20:42:11 -0000 (Mon, 13 Oct 2025) EllapsedTime: 51.3 seconds RetCode: 0 Status: OK