Package: RFLOMICS Version: 1.0.1 Command: /home/biocbuild/bbs-3.21-bioc/R/bin/R CMD build --keep-empty-dirs --no-resave-data RFLOMICS StartedAt: 2025-10-15 19:27:29 -0400 (Wed, 15 Oct 2025) EndedAt: 2025-10-15 19:29:40 -0400 (Wed, 15 Oct 2025) EllapsedTime: 131.1 seconds RetCode: 0 Status: OK PackageFile: RFLOMICS_1.0.1.tar.gz PackageFileSize: 5.109 MiB