Package: RFLOMICS Version: 1.0.1 Command: /Library/Frameworks/R.framework/Resources/bin/R CMD build --keep-empty-dirs --no-resave-data RFLOMICS StartedAt: 2025-10-13 21:59:13 -0400 (Mon, 13 Oct 2025) EndedAt: 2025-10-13 22:03:52 -0400 (Mon, 13 Oct 2025) EllapsedTime: 279.0 seconds RetCode: 0 Status: OK PackageFile: RFLOMICS_1.0.1.tar.gz PackageFileSize: 5.004 MiB