Package: RFLOMICS Version: 1.0.1 Command: rm -rf RFLOMICS.buildbin-libdir && mkdir RFLOMICS.buildbin-libdir && /Users/biocbuild/BBS/utils/build-universal.sh RFLOMICS_1.0.1.tar.gz /Library/Frameworks/R.framework/Resources/bin/R RFLOMICS.buildbin-libdir StartedAt: 2025-10-14 14:32:41 -0400 (Tue, 14 Oct 2025) EndedAt: 2025-10-14 14:35:16 -0400 (Tue, 14 Oct 2025) EllapsedTime: 154.5 seconds RetCode: 0 Status: OK PackageFile: RFLOMICS_1.0.1.tgz PackageFileSize: 4.846 MiB