Package: RFLOMICS Version: 1.0.1 Command: /Library/Frameworks/R.framework/Resources/bin/R CMD INSTALL RFLOMICS StartedAt: 2025-10-13 17:51:36 -0400 (Mon, 13 Oct 2025) EndedAt: 2025-10-13 17:52:38 -0400 (Mon, 13 Oct 2025) EllapsedTime: 62.6 seconds RetCode: 0 Status: OK