Package: RFLOMICS Version: 1.0.1 Command: /Library/Frameworks/R.framework/Resources/bin/R CMD build --keep-empty-dirs --no-resave-data RFLOMICS StartedAt: 2025-10-14 07:40:49 -0400 (Tue, 14 Oct 2025) EndedAt: 2025-10-14 07:43:44 -0400 (Tue, 14 Oct 2025) EllapsedTime: 175.6 seconds RetCode: 0 Status: OK PackageFile: RFLOMICS_1.0.1.tar.gz PackageFileSize: 5.013 MiB