Package: RESOLVE Version: 1.10.0 Command: /home/biocbuild/R/R/bin/R CMD INSTALL RESOLVE StartedAt: 2025-10-13 20:59:07 -0000 (Mon, 13 Oct 2025) EndedAt: 2025-10-13 21:00:01 -0000 (Mon, 13 Oct 2025) EllapsedTime: 54.2 seconds RetCode: 0 Status: OK