Package: RESOLVE Version: 1.10.0 Command: rm -rf RESOLVE.buildbin-libdir && mkdir RESOLVE.buildbin-libdir && /Users/biocbuild/BBS/utils/build-universal.sh RESOLVE_1.10.0.tar.gz /Library/Frameworks/R.framework/Resources/bin/R RESOLVE.buildbin-libdir StartedAt: 2025-10-15 20:03:38 -0400 (Wed, 15 Oct 2025) EndedAt: 2025-10-15 20:04:29 -0400 (Wed, 15 Oct 2025) EllapsedTime: 50.8 seconds RetCode: 0 Status: OK PackageFile: RESOLVE_1.10.0.tgz PackageFileSize: 1024 KiB