Package: REMP Version: 1.32.0 Command: /Library/Frameworks/R.framework/Resources/bin/R CMD build --keep-empty-dirs --no-resave-data REMP StartedAt: 2025-04-21 17:25:04 -0400 (Mon, 21 Apr 2025) EndedAt: 2025-04-21 17:26:09 -0400 (Mon, 21 Apr 2025) EllapsedTime: 64.8 seconds RetCode: 0 Status: OK PackageFile: REMP_1.32.0.tar.gz PackageFileSize: 190.7 KiB