Package: RDRToolbox Version: 1.58.0 Command: /Library/Frameworks/R.framework/Resources/bin/R CMD build --keep-empty-dirs --no-resave-data RDRToolbox StartedAt: 2025-10-13 21:54:44 -0400 (Mon, 13 Oct 2025) EndedAt: 2025-10-13 21:55:11 -0400 (Mon, 13 Oct 2025) EllapsedTime: 27.2 seconds RetCode: 0 Status: OK PackageFile: RDRToolbox_1.58.0.tar.gz PackageFileSize: 189.9 KiB