Package: RDRToolbox Version: 1.58.0 Command: /home/biocbuild/R/R/bin/R CMD INSTALL RDRToolbox StartedAt: 2025-10-13 20:17:59 -0000 (Mon, 13 Oct 2025) EndedAt: 2025-10-13 20:18:41 -0000 (Mon, 13 Oct 2025) EllapsedTime: 42.4 seconds RetCode: 0 Status: OK