Package: RDRToolbox Version: 1.58.0 Command: /Library/Frameworks/R.framework/Resources/bin/R CMD INSTALL RDRToolbox StartedAt: 2025-10-13 15:19:36 -0400 (Mon, 13 Oct 2025) EndedAt: 2025-10-13 15:20:07 -0400 (Mon, 13 Oct 2025) EllapsedTime: 31.5 seconds RetCode: 0 Status: OK