Package: RDRToolbox Version: 1.58.0 Command: /Library/Frameworks/R.framework/Resources/bin/R CMD build --keep-empty-dirs --no-resave-data RDRToolbox StartedAt: 2025-10-14 07:29:22 -0400 (Tue, 14 Oct 2025) EndedAt: 2025-10-14 07:29:44 -0400 (Tue, 14 Oct 2025) EllapsedTime: 22.4 seconds RetCode: 0 Status: OK PackageFile: RDRToolbox_1.58.0.tar.gz PackageFileSize: 190.4 KiB