Package: RCX Version: 1.12.1 Command: /home/biocbuild/R/R/bin/R CMD INSTALL RCX StartedAt: 2025-10-13 20:16:07 -0000 (Mon, 13 Oct 2025) EndedAt: 2025-10-13 20:16:17 -0000 (Mon, 13 Oct 2025) EllapsedTime: 10.3 seconds RetCode: 0 Status: OK