Package: RCX Version: 1.12.0 Command: /Library/Frameworks/R.framework/Resources/bin/R CMD build --keep-empty-dirs --no-resave-data RCX StartedAt: 2025-04-21 17:23:54 -0400 (Mon, 21 Apr 2025) EndedAt: 2025-04-21 17:24:06 -0400 (Mon, 21 Apr 2025) EllapsedTime: 12.2 seconds RetCode: 0 Status: OK PackageFile: RCX_1.12.0.tar.gz PackageFileSize: 4.574 MiB