Package: RCX Version: 1.12.1 Command: /Library/Frameworks/R.framework/Resources/bin/R CMD build --keep-empty-dirs --no-resave-data RCX StartedAt: 2025-10-14 07:28:53 -0400 (Tue, 14 Oct 2025) EndedAt: 2025-10-14 07:29:27 -0400 (Tue, 14 Oct 2025) EllapsedTime: 34.0 seconds RetCode: 0 Status: OK PackageFile: RCX_1.12.1.tar.gz PackageFileSize: 4.574 MiB