Package: RCX Version: 1.12.1 Command: rm -rf RCX.buildbin-libdir && mkdir RCX.buildbin-libdir && /Users/biocbuild/BBS/utils/build-universal.sh RCX_1.12.1.tar.gz /Library/Frameworks/R.framework/Resources/bin/R RCX.buildbin-libdir StartedAt: 2025-10-15 20:00:27 -0400 (Wed, 15 Oct 2025) EndedAt: 2025-10-15 20:00:36 -0400 (Wed, 15 Oct 2025) EllapsedTime: 9.3 seconds RetCode: 0 Status: OK PackageFile: RCX_1.12.1.tgz PackageFileSize: 3.612 MiB