Package: RCSL Version: 1.16.0 Command: /home/biocbuild/R/R/bin/R CMD INSTALL RCSL StartedAt: 2025-10-13 20:32:04 -0000 (Mon, 13 Oct 2025) EndedAt: 2025-10-13 20:32:16 -0000 (Mon, 13 Oct 2025) EllapsedTime: 12.5 seconds RetCode: 0 Status: OK