Package: RCM Version: 1.24.0 Command: /home/biocbuild/R/R/bin/R CMD build --keep-empty-dirs --no-resave-data RCM StartedAt: 2025-10-14 03:52:51 -0000 (Tue, 14 Oct 2025) EndedAt: 2025-10-14 03:54:18 -0000 (Tue, 14 Oct 2025) EllapsedTime: 87.0 seconds RetCode: 0 Status: OK PackageFile: RCM_1.24.0.tar.gz PackageFileSize: 3.905 MiB