Package: RCM Version: 1.24.0 Command: /Library/Frameworks/R.framework/Resources/bin/R CMD INSTALL RCM StartedAt: 2025-10-13 15:45:07 -0400 (Mon, 13 Oct 2025) EndedAt: 2025-10-13 15:45:34 -0400 (Mon, 13 Oct 2025) EllapsedTime: 26.7 seconds RetCode: 0 Status: OK