Package: RCM Version: 1.24.0 Command: /Library/Frameworks/R.framework/Resources/bin/R CMD build --keep-empty-dirs --no-resave-data RCM StartedAt: 2025-10-14 07:27:52 -0400 (Tue, 14 Oct 2025) EndedAt: 2025-10-14 07:29:06 -0400 (Tue, 14 Oct 2025) EllapsedTime: 74.3 seconds RetCode: 0 Status: OK PackageFile: RCM_1.24.0.tar.gz PackageFileSize: 4.822 MiB