Package: RCM Version: 1.24.0 Command: rm -rf RCM.buildbin-libdir && mkdir RCM.buildbin-libdir && /Users/biocbuild/BBS/utils/build-universal.sh RCM_1.24.0.tar.gz /Library/Frameworks/R.framework/Resources/bin/R RCM.buildbin-libdir StartedAt: 2025-10-15 19:59:57 -0400 (Wed, 15 Oct 2025) EndedAt: 2025-10-15 20:00:28 -0400 (Wed, 15 Oct 2025) EllapsedTime: 30.7 seconds RetCode: 0 Status: OK PackageFile: RCM_1.24.0.tgz PackageFileSize: 5.06 MiB