Package: RCASPAR Version: 1.54.0 Command: /Library/Frameworks/R.framework/Resources/bin/R CMD build --keep-empty-dirs --no-resave-data RCASPAR StartedAt: 2025-10-14 07:24:56 -0400 (Tue, 14 Oct 2025) EndedAt: 2025-10-14 07:25:07 -0400 (Tue, 14 Oct 2025) EllapsedTime: 11.0 seconds RetCode: 0 Status: OK PackageFile: RCASPAR_1.54.0.tar.gz PackageFileSize: 305.5 KiB