Package: RBioinf Version: 1.68.0 Command: /home/biocbuild/bbs-3.21-bioc/R/bin/R CMD INSTALL RBioinf StartedAt: 2025-10-15 15:11:51 -0400 (Wed, 15 Oct 2025) EndedAt: 2025-10-15 15:11:55 -0400 (Wed, 15 Oct 2025) EllapsedTime: 3.8 seconds RetCode: 0 Status: OK