Package: RBioinf Version: 1.68.0 Command: /home/biocbuild/bbs-3.21-bioc/R/bin/R CMD build --keep-empty-dirs --no-resave-data RBioinf StartedAt: 2025-10-15 19:22:22 -0400 (Wed, 15 Oct 2025) EndedAt: 2025-10-15 19:22:32 -0400 (Wed, 15 Oct 2025) EllapsedTime: 10.0 seconds RetCode: 0 Status: OK PackageFile: RBioinf_1.68.0.tar.gz PackageFileSize: 3.544 MiB