Package: RBioinf Version: 1.68.0 Command: /Library/Frameworks/R.framework/Resources/bin/R CMD build --keep-empty-dirs --no-resave-data RBioinf StartedAt: 2025-04-21 18:05:16 -0400 (Mon, 21 Apr 2025) EndedAt: 2025-04-21 18:05:34 -0400 (Mon, 21 Apr 2025) EllapsedTime: 18.3 seconds RetCode: 0 Status: OK PackageFile: RBioinf_1.68.0.tar.gz PackageFileSize: 3.544 MiB