Package: RBioinf Version: 1.68.0 Command: rm -rf RBioinf.buildbin-libdir && mkdir RBioinf.buildbin-libdir && /Users/biocbuild/BBS/utils/build-universal.sh RBioinf_1.68.0.tar.gz /Library/Frameworks/R.framework/Resources/bin/R RBioinf.buildbin-libdir StartedAt: 2025-04-22 01:02:41 -0400 (Tue, 22 Apr 2025) EndedAt: 2025-04-22 01:02:53 -0400 (Tue, 22 Apr 2025) EllapsedTime: 12.8 seconds RetCode: 0 Status: OK PackageFile: RBioinf_1.68.0.tgz PackageFileSize: 3.594 MiB